BEGIN:VCALENDAR
VERSION:2.0
PRODID:-//Epping (NSW) RSL Sub Branch - ECPv6.15.17.1//NONSGML v1.0//EN
CALSCALE:GREGORIAN
METHOD:PUBLISH
X-WR-CALNAME:Epping (NSW) RSL Sub Branch
X-ORIGINAL-URL:https://eppingrsl.org.au
X-WR-CALDESC:Events for Epping (NSW) RSL Sub Branch
REFRESH-INTERVAL;VALUE=DURATION:PT1H
X-Robots-Tag:noindex
X-PUBLISHED-TTL:PT1H
BEGIN:VTIMEZONE
TZID:Australia/Sydney
BEGIN:STANDARD
TZOFFSETFROM:+1100
TZOFFSETTO:+1000
TZNAME:AEST
DTSTART:20250405T160000
END:STANDARD
BEGIN:DAYLIGHT
TZOFFSETFROM:+1000
TZOFFSETTO:+1100
TZNAME:AEDT
DTSTART:20251004T160000
END:DAYLIGHT
BEGIN:STANDARD
TZOFFSETFROM:+1100
TZOFFSETTO:+1000
TZNAME:AEST
DTSTART:20260404T160000
END:STANDARD
BEGIN:DAYLIGHT
TZOFFSETFROM:+1000
TZOFFSETTO:+1100
TZNAME:AEDT
DTSTART:20261003T160000
END:DAYLIGHT
BEGIN:STANDARD
TZOFFSETFROM:+1100
TZOFFSETTO:+1000
TZNAME:AEST
DTSTART:20270403T160000
END:STANDARD
BEGIN:DAYLIGHT
TZOFFSETFROM:+1000
TZOFFSETTO:+1100
TZNAME:AEDT
DTSTART:20271002T160000
END:DAYLIGHT
END:VTIMEZONE
BEGIN:VEVENT
DTSTART;TZID=Australia/Sydney:20260425T054500
DTEND;TZID=Australia/Sydney:20260425T080000
DTSTAMP:20260421T180647
CREATED:20260413T014409Z
LAST-MODIFIED:20260413T015236Z
UID:25899-1777095900-1777104000@eppingrsl.org.au
SUMMARY:ANZAC Day Dawn Service
DESCRIPTION:
URL:https://eppingrsl.org.au/event/anzac-day-dawn-service/
LOCATION:Forest Park\, Epping\, 723X Blaxland Road\, Epping\, NSW\, 2121\, Australia
CATEGORIES:Commemoration
ATTACH;FMTTYPE=image/jpeg:https://eppingrsl.org.au/wp-content/uploads/2026/03/image-4.jpeg
END:VEVENT
BEGIN:VEVENT
DTSTART;TZID=Australia/Sydney:20260502T190000
DTEND;TZID=Australia/Sydney:20260502T230000
DTSTAMP:20260421T180647
CREATED:20260412T040740Z
LAST-MODIFIED:20260413T013341Z
UID:25860-1777748400-1777762800@eppingrsl.org.au
SUMMARY:ANZAC Dinner
DESCRIPTION:All Australian Defence Force serving personnel\, veterans\, and their partners are invited to attend\nJoin the Epping (NSW) RSL Sub-Branch for the \nInaugral\nANZAC Dinner\non Sunday 2 May 2026 at The Epping Club. \nFeaturing \nThe Golden Kangaroos\nand \nGuest Speaker \nMajor Mark Beretta OAM\nFormer Channel 7 Sunrise Sports Presenter \nTickets\n$45 pp and/or more information\, please contact \n0435 879 258.\nby 15 April 2026 \nDress: Mess dress / lounge suit\, ladies as appropriate \nMedals: Minatures to be worn
URL:https://eppingrsl.org.au/event/anzac-dinner/
LOCATION:The Epping Club\, 45 Rawson Street\, Epping\, NSW\, Australia
CATEGORIES:Function
ATTACH;FMTTYPE=image/jpeg:https://eppingrsl.org.au/wp-content/uploads/2026/04/anzacdinner-e1775089480651.jpg
END:VEVENT
BEGIN:VEVENT
DTSTART;TZID=Australia/Sydney:20260504T103000
DTEND;TZID=Australia/Sydney:20260504T123000
DTSTAMP:20260421T180647
CREATED:20260417T000003Z
LAST-MODIFIED:20260417T000003Z
UID:26124-1777890600-1777897800@eppingrsl.org.au
SUMMARY:Families of Veterans Guild (War Widows) Meeting
DESCRIPTION:
URL:https://eppingrsl.org.au/event/families-of-veterans-guild-war-widows-meeting/
LOCATION:The Epping Club\, 45 Rawson Street\, Epping\, NSW\, Australia
CATEGORIES:Meeting
ATTACH;FMTTYPE=image/png:https://eppingrsl.org.au/wp-content/uploads/2026/04/Logo-1_White_Transparent-Background-300x300-1.png
END:VEVENT
BEGIN:VEVENT
DTSTART;TZID=Australia/Sydney:20260504T193000
DTEND;TZID=Australia/Sydney:20260504T213000
DTSTAMP:20260421T180647
CREATED:20260414T111400Z
LAST-MODIFIED:20260414T113806Z
UID:25960-1777923000-1777930200@eppingrsl.org.au
SUMMARY:Sub Branch General Meeting
DESCRIPTION:
URL:https://eppingrsl.org.au/event/sub-branch-general-meeting/
LOCATION:The Epping Club\, 45 Rawson Street\, Epping\, NSW\, Australia
CATEGORIES:Meeting
ATTACH;FMTTYPE=image/webp:https://eppingrsl.org.au/wp-content/uploads/2026/03/cropped-RSL-Logo.webp
END:VEVENT
BEGIN:VEVENT
DTSTART;TZID=Australia/Sydney:20260511T180000
DTEND;TZID=Australia/Sydney:20260511T200000
DTSTAMP:20260421T180647
CREATED:20260414T111735Z
LAST-MODIFIED:20260414T112557Z
UID:25962-1778522400-1778529600@eppingrsl.org.au
SUMMARY:Sub Branch Committee Meeting
DESCRIPTION:
URL:https://eppingrsl.org.au/event/committee-meeting/
LOCATION:The Epping Club\, 45 Rawson Street\, Epping\, NSW\, Australia
CATEGORIES:Meeting
ATTACH;FMTTYPE=image/jpeg:https://eppingrsl.org.au/wp-content/uploads/2026/03/image-5.jpeg
END:VEVENT
BEGIN:VEVENT
DTSTART;TZID=Australia/Sydney:20260520T130000
DTEND;TZID=Australia/Sydney:20260520T150000
DTSTAMP:20260421T180647
CREATED:20260417T000133Z
LAST-MODIFIED:20260417T000133Z
UID:26128-1779282000-1779289200@eppingrsl.org.au
SUMMARY:Sub Branch Stand Easy
DESCRIPTION:
URL:https://eppingrsl.org.au/event/sub-branch-stand-easy-2/
LOCATION:The Epping Club\, 45 Rawson Street\, Epping\, NSW\, Australia
CATEGORIES:Camaraderie
ATTACH;FMTTYPE=image/jpeg:https://eppingrsl.org.au/wp-content/uploads/2026/04/WEL_Mains_3__ScaleWidthWzEyMDBd.jpg
END:VEVENT
BEGIN:VEVENT
DTSTART;TZID=Australia/Sydney:20260525T193000
DTEND;TZID=Australia/Sydney:20260525T213000
DTSTAMP:20260421T180647
CREATED:20260416T234704Z
LAST-MODIFIED:20260416T234704Z
UID:26113-1779737400-1779744600@eppingrsl.org.au
SUMMARY:Sub Branch General Meeting
DESCRIPTION:
URL:https://eppingrsl.org.au/event/sub-branch-general-meeting-2/
LOCATION:The Epping Club\, 45 Rawson Street\, Epping\, NSW\, Australia
CATEGORIES:Meeting
ATTACH;FMTTYPE=image/webp:https://eppingrsl.org.au/wp-content/uploads/2026/03/cropped-RSL-Logo.webp
END:VEVENT
BEGIN:VEVENT
DTSTART;TZID=Australia/Sydney:20260601T103000
DTEND;TZID=Australia/Sydney:20260601T123000
DTSTAMP:20260421T180647
CREATED:20260417T000039Z
LAST-MODIFIED:20260417T000039Z
UID:26123-1780309800-1780317000@eppingrsl.org.au
SUMMARY:Families of Veterans Guild (War Widows) Meeting
DESCRIPTION:
URL:https://eppingrsl.org.au/event/families-of-veterans-guild-war-widows-meeting-2/
LOCATION:The Epping Club\, 45 Rawson Street\, Epping\, NSW\, Australia
CATEGORIES:Meeting
ATTACH;FMTTYPE=image/png:https://eppingrsl.org.au/wp-content/uploads/2026/04/Logo-1_White_Transparent-Background-300x300-1.png
END:VEVENT
BEGIN:VEVENT
DTSTART;TZID=Australia/Sydney:20260601T180000
DTEND;TZID=Australia/Sydney:20260601T200000
DTSTAMP:20260421T180647
CREATED:20260416T234254Z
LAST-MODIFIED:20260416T234254Z
UID:26099-1780336800-1780344000@eppingrsl.org.au
SUMMARY:Sub Branch Committee Meeting
DESCRIPTION:
URL:https://eppingrsl.org.au/event/sub-branch-committee-meeting-2/
LOCATION:The Epping Club\, 45 Rawson Street\, Epping\, NSW\, Australia
CATEGORIES:Meeting
ATTACH;FMTTYPE=image/jpeg:https://eppingrsl.org.au/wp-content/uploads/2026/03/image-5.jpeg
END:VEVENT
BEGIN:VEVENT
DTSTART;TZID=Australia/Sydney:20260614T120000
DTEND;TZID=Australia/Sydney:20260614T150000
DTSTAMP:20260421T180647
CREATED:20260414T112339Z
LAST-MODIFIED:20260414T112339Z
UID:25965-1781438400-1781449200@eppingrsl.org.au
SUMMARY:Mid Year / Life Members Lunch
DESCRIPTION:
URL:https://eppingrsl.org.au/event/mid-year-life-members-lunch/
LOCATION:The Epping Club\, 45 Rawson Street\, Epping\, NSW\, Australia
CATEGORIES:Function
ATTACH;FMTTYPE=image/jpeg:https://eppingrsl.org.au/wp-content/uploads/2026/04/IMG_1692-Miss-Yue-Private-Dining.jpg
END:VEVENT
BEGIN:VEVENT
DTSTART;TZID=Australia/Sydney:20260617T130000
DTEND;TZID=Australia/Sydney:20260617T150000
DTSTAMP:20260421T180647
CREATED:20260417T000155Z
LAST-MODIFIED:20260417T000155Z
UID:26127-1781701200-1781708400@eppingrsl.org.au
SUMMARY:Sub Branch Stand Easy
DESCRIPTION:
URL:https://eppingrsl.org.au/event/sub-branch-stand-easy-3/
LOCATION:The Epping Club\, 45 Rawson Street\, Epping\, NSW\, Australia
CATEGORIES:Camaraderie
ATTACH;FMTTYPE=image/jpeg:https://eppingrsl.org.au/wp-content/uploads/2026/04/WEL_Mains_3__ScaleWidthWzEyMDBd.jpg
END:VEVENT
BEGIN:VEVENT
DTSTART;TZID=Australia/Sydney:20260629T193000
DTEND;TZID=Australia/Sydney:20260629T213000
DTSTAMP:20260421T180647
CREATED:20260416T234722Z
LAST-MODIFIED:20260416T234722Z
UID:26112-1782761400-1782768600@eppingrsl.org.au
SUMMARY:Sub Branch General Meeting
DESCRIPTION:
URL:https://eppingrsl.org.au/event/sub-branch-general-meeting-3/
LOCATION:The Epping Club\, 45 Rawson Street\, Epping\, NSW\, Australia
CATEGORIES:Meeting
ATTACH;FMTTYPE=image/webp:https://eppingrsl.org.au/wp-content/uploads/2026/03/cropped-RSL-Logo.webp
END:VEVENT
BEGIN:VEVENT
DTSTART;TZID=Australia/Sydney:20260713T180000
DTEND;TZID=Australia/Sydney:20260713T200000
DTSTAMP:20260421T180647
CREATED:20260416T234327Z
LAST-MODIFIED:20260416T234327Z
UID:26098-1783965600-1783972800@eppingrsl.org.au
SUMMARY:Sub Branch Committee Meeting
DESCRIPTION:
URL:https://eppingrsl.org.au/event/sub-branch-committee-meeting-3/
LOCATION:The Epping Club\, 45 Rawson Street\, Epping\, NSW\, Australia
CATEGORIES:Meeting
ATTACH;FMTTYPE=image/jpeg:https://eppingrsl.org.au/wp-content/uploads/2026/03/image-5.jpeg
END:VEVENT
BEGIN:VEVENT
DTSTART;TZID=Australia/Sydney:20260727T193000
DTEND;TZID=Australia/Sydney:20260727T213000
DTSTAMP:20260421T180647
CREATED:20260416T234741Z
LAST-MODIFIED:20260416T234741Z
UID:26111-1785180600-1785187800@eppingrsl.org.au
SUMMARY:Sub Branch General Meeting
DESCRIPTION:
URL:https://eppingrsl.org.au/event/sub-branch-general-meeting-4/
LOCATION:The Epping Club\, 45 Rawson Street\, Epping\, NSW\, Australia
CATEGORIES:Meeting
ATTACH;FMTTYPE=image/webp:https://eppingrsl.org.au/wp-content/uploads/2026/03/cropped-RSL-Logo.webp
END:VEVENT
BEGIN:VEVENT
DTSTART;TZID=Australia/Sydney:20260810T180000
DTEND;TZID=Australia/Sydney:20260810T200000
DTSTAMP:20260421T180647
CREATED:20260416T234348Z
LAST-MODIFIED:20260416T234348Z
UID:26097-1786384800-1786392000@eppingrsl.org.au
SUMMARY:Sub Branch Committee Meeting
DESCRIPTION:
URL:https://eppingrsl.org.au/event/sub-branch-committee-meeting-4/
LOCATION:The Epping Club\, 45 Rawson Street\, Epping\, NSW\, Australia
CATEGORIES:Meeting
ATTACH;FMTTYPE=image/jpeg:https://eppingrsl.org.au/wp-content/uploads/2026/03/image-5.jpeg
END:VEVENT
BEGIN:VEVENT
DTSTART;VALUE=DATE:20260815
DTEND;VALUE=DATE:20260816
DTSTAMP:20260421T180647
CREATED:20260414T113214Z
LAST-MODIFIED:20260414T113214Z
UID:25971-1786752000-1786838399@eppingrsl.org.au
SUMMARY:Victory in the Pacific Day
DESCRIPTION:
URL:https://eppingrsl.org.au/event/victory-in-the-pacific-day/
LOCATION:The Epping Club\, 45 Rawson Street\, Epping\, NSW\, Australia
CATEGORIES:Commemoration
ATTACH;FMTTYPE=image/jpeg:https://eppingrsl.org.au/wp-content/uploads/2026/04/victory-in-japan-01.jpg
END:VEVENT
BEGIN:VEVENT
DTSTART;TZID=Australia/Sydney:20260831T193000
DTEND;TZID=Australia/Sydney:20260831T213000
DTSTAMP:20260421T180647
CREATED:20260416T234803Z
LAST-MODIFIED:20260416T234803Z
UID:26110-1788204600-1788211800@eppingrsl.org.au
SUMMARY:Sub Branch General Meeting
DESCRIPTION:
URL:https://eppingrsl.org.au/event/sub-branch-general-meeting-5/
LOCATION:The Epping Club\, 45 Rawson Street\, Epping\, NSW\, Australia
CATEGORIES:Meeting
ATTACH;FMTTYPE=image/webp:https://eppingrsl.org.au/wp-content/uploads/2026/03/cropped-RSL-Logo.webp
END:VEVENT
BEGIN:VEVENT
DTSTART;TZID=Australia/Sydney:20260914T180000
DTEND;TZID=Australia/Sydney:20260914T200000
DTSTAMP:20260421T180647
CREATED:20260416T234404Z
LAST-MODIFIED:20260416T234404Z
UID:26096-1789408800-1789416000@eppingrsl.org.au
SUMMARY:Sub Branch Committee Meeting
DESCRIPTION:
URL:https://eppingrsl.org.au/event/sub-branch-committee-meeting-5/
LOCATION:The Epping Club\, 45 Rawson Street\, Epping\, NSW\, Australia
CATEGORIES:Meeting
ATTACH;FMTTYPE=image/jpeg:https://eppingrsl.org.au/wp-content/uploads/2026/03/image-5.jpeg
END:VEVENT
BEGIN:VEVENT
DTSTART;TZID=Australia/Sydney:20260928T193000
DTEND;TZID=Australia/Sydney:20260928T213000
DTSTAMP:20260421T180647
CREATED:20260416T234822Z
LAST-MODIFIED:20260416T234822Z
UID:26109-1790623800-1790631000@eppingrsl.org.au
SUMMARY:Sub Branch General Meeting
DESCRIPTION:
URL:https://eppingrsl.org.au/event/sub-branch-general-meeting-6/
LOCATION:The Epping Club\, 45 Rawson Street\, Epping\, NSW\, Australia
CATEGORIES:Meeting
ATTACH;FMTTYPE=image/webp:https://eppingrsl.org.au/wp-content/uploads/2026/03/cropped-RSL-Logo.webp
END:VEVENT
BEGIN:VEVENT
DTSTART;TZID=Australia/Sydney:20261012T180000
DTEND;TZID=Australia/Sydney:20261012T200000
DTSTAMP:20260421T180647
CREATED:20260416T234422Z
LAST-MODIFIED:20260416T234422Z
UID:26095-1791828000-1791835200@eppingrsl.org.au
SUMMARY:Sub Branch Committee Meeting
DESCRIPTION:
URL:https://eppingrsl.org.au/event/sub-branch-committee-meeting-6/
LOCATION:The Epping Club\, 45 Rawson Street\, Epping\, NSW\, Australia
CATEGORIES:Meeting
ATTACH;FMTTYPE=image/jpeg:https://eppingrsl.org.au/wp-content/uploads/2026/03/image-5.jpeg
END:VEVENT
BEGIN:VEVENT
DTSTART;TZID=Australia/Sydney:20261026T193000
DTEND;TZID=Australia/Sydney:20261026T213000
DTSTAMP:20260421T180647
CREATED:20260416T234847Z
LAST-MODIFIED:20260416T234847Z
UID:26108-1793043000-1793050200@eppingrsl.org.au
SUMMARY:Sub Branch General Meeting
DESCRIPTION:
URL:https://eppingrsl.org.au/event/sub-branch-general-meeting-7/
LOCATION:The Epping Club\, 45 Rawson Street\, Epping\, NSW\, Australia
CATEGORIES:Meeting
ATTACH;FMTTYPE=image/webp:https://eppingrsl.org.au/wp-content/uploads/2026/03/cropped-RSL-Logo.webp
END:VEVENT
BEGIN:VEVENT
DTSTART;TZID=Australia/Sydney:20261109T180000
DTEND;TZID=Australia/Sydney:20261109T200000
DTSTAMP:20260421T180647
CREATED:20260416T234441Z
LAST-MODIFIED:20260416T234441Z
UID:26094-1794247200-1794254400@eppingrsl.org.au
SUMMARY:Sub Branch Committee Meeting
DESCRIPTION:
URL:https://eppingrsl.org.au/event/sub-branch-committee-meeting-7/
LOCATION:The Epping Club\, 45 Rawson Street\, Epping\, NSW\, Australia
CATEGORIES:Meeting
ATTACH;FMTTYPE=image/jpeg:https://eppingrsl.org.au/wp-content/uploads/2026/03/image-5.jpeg
END:VEVENT
BEGIN:VEVENT
DTSTART;TZID=Australia/Sydney:20261111T110000
DTEND;TZID=Australia/Sydney:20261111T120000
DTSTAMP:20260421T180647
CREATED:20260414T113349Z
LAST-MODIFIED:20260414T113349Z
UID:25974-1794394800-1794398400@eppingrsl.org.au
SUMMARY:Remembrance Day
DESCRIPTION:
URL:https://eppingrsl.org.au/event/remembrance-day/
LOCATION:The Epping Club\, 45 Rawson Street\, Epping\, NSW\, Australia
CATEGORIES:Commemoration
ATTACH;FMTTYPE=image/jpeg:https://eppingrsl.org.au/wp-content/uploads/2026/03/image-8.jpeg
END:VEVENT
BEGIN:VEVENT
DTSTART;TZID=Australia/Sydney:20261130T193000
DTEND;TZID=Australia/Sydney:20261130T213000
DTSTAMP:20260421T180647
CREATED:20260416T234913Z
LAST-MODIFIED:20260416T234913Z
UID:26107-1796067000-1796074200@eppingrsl.org.au
SUMMARY:Sub Branch General Meeting
DESCRIPTION:
URL:https://eppingrsl.org.au/event/sub-branch-general-meeting-8/
LOCATION:The Epping Club\, 45 Rawson Street\, Epping\, NSW\, Australia
CATEGORIES:Meeting
ATTACH;FMTTYPE=image/webp:https://eppingrsl.org.au/wp-content/uploads/2026/03/cropped-RSL-Logo.webp
END:VEVENT
BEGIN:VEVENT
DTSTART;TZID=Australia/Sydney:20261206T120000
DTEND;TZID=Australia/Sydney:20261206T150000
DTSTAMP:20260421T180647
CREATED:20260414T112812Z
LAST-MODIFIED:20260414T114133Z
UID:25969-1796558400-1796569200@eppingrsl.org.au
SUMMARY:Christmas Luncheon
DESCRIPTION:
URL:https://eppingrsl.org.au/event/christmas-luncheon/
LOCATION:The Epping Club\, 45 Rawson Street\, Epping\, NSW\, Australia
CATEGORIES:Function
ATTACH;FMTTYPE=image/webp:https://eppingrsl.org.au/wp-content/uploads/2026/04/christmas-dinner-related1920x1080.png.webp
END:VEVENT
BEGIN:VEVENT
DTSTART;TZID=Australia/Sydney:20261214T180000
DTEND;TZID=Australia/Sydney:20261214T200000
DTSTAMP:20260421T180647
CREATED:20260416T234505Z
LAST-MODIFIED:20260416T234505Z
UID:26093-1797271200-1797278400@eppingrsl.org.au
SUMMARY:Sub Branch Committee Meeting
DESCRIPTION:
URL:https://eppingrsl.org.au/event/sub-branch-committee-meeting-8/
LOCATION:The Epping Club\, 45 Rawson Street\, Epping\, NSW\, Australia
CATEGORIES:Meeting
ATTACH;FMTTYPE=image/jpeg:https://eppingrsl.org.au/wp-content/uploads/2026/03/image-5.jpeg
END:VEVENT
END:VCALENDAR